BEGIN:VCALENDAR
VERSION:2.0
PRODID:-//Winn Knits - ECPv6.15.17.1//NONSGML v1.0//EN
CALSCALE:GREGORIAN
METHOD:PUBLISH
X-ORIGINAL-URL:https://winn-knits.com
X-WR-CALDESC:Events for Winn Knits
REFRESH-INTERVAL;VALUE=DURATION:PT1H
X-Robots-Tag:noindex
X-PUBLISHED-TTL:PT1H
BEGIN:VTIMEZONE
TZID:UTC
BEGIN:STANDARD
TZOFFSETFROM:+0000
TZOFFSETTO:+0000
TZNAME:UTC
DTSTART:20180101T000000
END:STANDARD
END:VTIMEZONE
BEGIN:VEVENT
DTSTART;VALUE=DATE:20200227
DTEND;VALUE=DATE:20200302
DTSTAMP:20260420T035744
CREATED:20190820T013648Z
LAST-MODIFIED:20190820T013659Z
UID:873-1582761600-1583107199@winn-knits.com
SUMMARY:Sewing and Stitchery Expo 2020
DESCRIPTION:Sewing and Stitchery Expo 2020\nFebruary 27 – March 1\, 2020 at the Puyallup Fair grounds.  Fibers Etc. has a presence in our booth and Winn plans be teaching two classes. Mark your calendars so you can plan to come to see us and be inspired. \n 
URL:https://winn-knits.com/class/sewing-and-stitchery-expo-2020/
CATEGORIES:Annual Events
ATTACH;FMTTYPE=image/jpeg:https://winn-knits.com/wp-content/uploads/2019/08/winn-knits-featured-image-sew.jpg
END:VEVENT
BEGIN:VEVENT
DTSTART;VALUE=DATE:20200213
DTEND;VALUE=DATE:20200217
DTSTAMP:20260420T035744
CREATED:20190820T013004Z
LAST-MODIFIED:20190820T013004Z
UID:869-1581552000-1581897599@winn-knits.com
SUMMARY:Red Alder Winter Retreat
DESCRIPTION:Red Alder Winter Retreat – (formerly Madrona Fiber Arts Retreat)\nFebruary 13 – 16\, 2020 at the Murano Hotel.  The most amazing gathering of fiber artists\, teachers designers and fiber enthusiasts – in our own backyard.  Fibers Etc has a booth featuring Habu & Shibui yarns.  You will find me there or soaking up classes and the amazing energy of being around like-minded people.  Registration is in November – so be on the look out! \n 
URL:https://winn-knits.com/class/red-alder-winter-retreat/
CATEGORIES:Annual Events
ATTACH;FMTTYPE=image/jpeg:https://winn-knits.com/wp-content/uploads/2019/08/winn-knits-featured-image-event-red.jpg
END:VEVENT
BEGIN:VEVENT
DTSTART;TZID=UTC:20191013T110000
DTEND;TZID=UTC:20191013T170000
DTSTAMP:20260420T035744
CREATED:20190820T012149Z
LAST-MODIFIED:20190820T012149Z
UID:867-1570964400-1570986000@winn-knits.com
SUMMARY:Tacoma Arts Studio Tour
DESCRIPTION:Tacoma Arts Studio Tour\nOctober 12th & 13th\, Saturday and Sunday 11am- 5pm. During Tacoma art month over 45 professional artists around Tacoma open their studios with free art activities for their visitors. Fibers Etc offers hand -made fiber art to view and fiber activities to explore. \n 
URL:https://winn-knits.com/class/tacoma-arts-studio-tour-2/
LOCATION:Fibers Etc\, 2511 South Hood St.\, Tacoma\, WA\, 98402\, United States
CATEGORIES:Annual Events
ATTACH;FMTTYPE=image/jpeg:https://winn-knits.com/wp-content/uploads/2019/08/winn-knits-featured-image-event-tacoma.jpg
END:VEVENT
BEGIN:VEVENT
DTSTART;TZID=UTC:20191012T110000
DTEND;TZID=UTC:20191012T170000
DTSTAMP:20260420T035744
CREATED:20190820T012100Z
LAST-MODIFIED:20190820T012100Z
UID:864-1570878000-1570899600@winn-knits.com
SUMMARY:Tacoma Arts Studio Tour
DESCRIPTION:Tacoma Arts Studio Tour\nOctober 12th & 13th\, Saturday and Sunday 11am- 5pm. During Tacoma art month over 45 professional artists around Tacoma open their studios with free art activities for their visitors. Fibers Etc offers hand -made fiber art to view and fiber activities to explore. \n 
URL:https://winn-knits.com/class/tacoma-arts-studio-tour/
LOCATION:Fibers Etc\, 2511 South Hood St.\, Tacoma\, WA\, 98402\, United States
CATEGORIES:Annual Events
ATTACH;FMTTYPE=image/jpeg:https://winn-knits.com/wp-content/uploads/2019/08/winn-knits-featured-image-event-tacoma.jpg
END:VEVENT
BEGIN:VEVENT
DTSTART;TZID=UTC:20191006T100000
DTEND;TZID=UTC:20191006T170000
DTSTAMP:20260420T035744
CREATED:20190820T010405Z
LAST-MODIFIED:20190820T010405Z
UID:862-1570356000-1570381200@winn-knits.com
SUMMARY:Pacific Northwest Yarn Crawl
DESCRIPTION:Pacific Northwest Yarn Crawl \nOctober 4\,5\, & 6th; Friday & Saturday 9am – 7pm\, Sunday 10am-5pm. \nThis is an opportunity to visit 10 yarn shops in the South Sound area open at the same time\, all featuring a FREE knit and crochet pattern with discounts on the featured yarn.  Lots of daily prizes and drawings as well as finishing prizes.  The theme this fall is “Tharrrr be yarn in them there hills!” Come with friends and find some treasures! \n 
URL:https://winn-knits.com/class/pacific-northwest-yarn-crawl-3/
CATEGORIES:Annual Events
ATTACH;FMTTYPE=image/jpeg:https://winn-knits.com/wp-content/uploads/2019/08/winn-knits-featured-image-event-annual.jpg
END:VEVENT
BEGIN:VEVENT
DTSTART;TZID=UTC:20191005T090000
DTEND;TZID=UTC:20191005T190000
DTSTAMP:20260420T035744
CREATED:20190820T010210Z
LAST-MODIFIED:20190820T010210Z
UID:860-1570266000-1570302000@winn-knits.com
SUMMARY:Pacific Northwest Yarn Crawl
DESCRIPTION:Pacific Northwest Yarn Crawl \nOctober 4\,5\, & 6th; Friday & Saturday 9am – 7pm\, Sunday 10am-5pm. \nThis is an opportunity to visit 10 yarn shops in the South Sound area open at the same time\, all featuring a FREE knit and crochet pattern with discounts on the featured yarn.  Lots of daily prizes and drawings as well as finishing prizes.  The theme this fall is “Tharrrr be yarn in them there hills!” Come with friends and find some treasures! \n 
URL:https://winn-knits.com/class/pacific-northwest-yarn-crawl-2/
CATEGORIES:Annual Events
ATTACH;FMTTYPE=image/jpeg:https://winn-knits.com/wp-content/uploads/2019/08/winn-knits-featured-image-event-annual.jpg
END:VEVENT
BEGIN:VEVENT
DTSTART;TZID=UTC:20191004T090000
DTEND;TZID=UTC:20191004T190000
DTSTAMP:20260420T035744
CREATED:20190820T010040Z
LAST-MODIFIED:20190820T010040Z
UID:856-1570179600-1570215600@winn-knits.com
SUMMARY:Pacific Northwest Yarn Crawl
DESCRIPTION:Pacific Northwest Yarn Crawl \nOctober 4\,5\, & 6th; Friday & Saturday 9am – 7pm\, Sunday 10am-5pm. \nThis is an opportunity to visit 10 yarn shops in the South Sound area open at the same time\, all featuring a FREE knit and crochet pattern with discounts on the featured yarn.  Lots of daily prizes and drawings as well as finishing prizes.  The theme this fall is “Tharrrr be yarn in them there hills!” Come with friends and find some treasures! \n 
URL:https://winn-knits.com/class/pacific-northwest-yarn-crawl/
CATEGORIES:Annual Events
ATTACH;FMTTYPE=image/jpeg:https://winn-knits.com/wp-content/uploads/2019/08/winn-knits-featured-image-event-annual.jpg
END:VEVENT
BEGIN:VEVENT
DTSTART;TZID=UTC:20190826T100000
DTEND;TZID=UTC:20190826T180000
DTSTAMP:20260420T035744
CREATED:20190820T005147Z
LAST-MODIFIED:20190820T005147Z
UID:853-1566813600-1566842400@winn-knits.com
SUMMARY:Fibers Etc Annual Sale
DESCRIPTION:Fibers Etc. Annual Sale!\nAugust 22\,23\, 24\, & 26 (closed on Sunday) 10am- 6pm.  \nExcellent markdowns and amazing selections of beautiful luxury yarns on SALE!
URL:https://winn-knits.com/class/fibers-etc-annual-sale-4/
LOCATION:Fibers Etc\, 2511 South Hood St.\, Tacoma\, WA\, 98402\, United States
CATEGORIES:Annual Events
ATTACH;FMTTYPE=image/jpeg:https://winn-knits.com/wp-content/uploads/2019/08/winn-knits-featured-image-event-annual-sale.jpg
END:VEVENT
BEGIN:VEVENT
DTSTART;TZID=UTC:20190824T100000
DTEND;TZID=UTC:20190824T180000
DTSTAMP:20260420T035744
CREATED:20190820T004756Z
LAST-MODIFIED:20190820T004756Z
UID:851-1566640800-1566669600@winn-knits.com
SUMMARY:Fibers Etc Annual Sale
DESCRIPTION:Fibers Etc. Annual Sale!\nAugust 22\,23\, 24\, & 26 (closed on Sunday) 10am- 6pm.  \nExcellent markdowns and amazing selections of beautiful luxury yarns on SALE!
URL:https://winn-knits.com/class/fibers-etc-annual-sale-3/
LOCATION:Fibers Etc\, 2511 South Hood St.\, Tacoma\, WA\, 98402\, United States
CATEGORIES:Annual Events
ATTACH;FMTTYPE=image/jpeg:https://winn-knits.com/wp-content/uploads/2019/08/winn-knits-featured-image-event-annual-sale.jpg
END:VEVENT
BEGIN:VEVENT
DTSTART;TZID=UTC:20190823T100000
DTEND;TZID=UTC:20190823T180000
DTSTAMP:20260420T035744
CREATED:20190820T004413Z
LAST-MODIFIED:20190820T004413Z
UID:849-1566554400-1566583200@winn-knits.com
SUMMARY:Fibers Etc Annual Sale
DESCRIPTION:Fibers Etc. Annual Sale!\nAugust 22\,23\, 24\, & 26 (closed on Sunday) 10am- 6pm.  \nExcellent markdowns and amazing selections of beautiful luxury yarns on SALE!
URL:https://winn-knits.com/class/fibers-etc-annual-sale-2/
LOCATION:Fibers Etc\, 2511 South Hood St.\, Tacoma\, WA\, 98402\, United States
CATEGORIES:Annual Events
ATTACH;FMTTYPE=image/jpeg:https://winn-knits.com/wp-content/uploads/2019/08/winn-knits-featured-image-event-annual-sale.jpg
END:VEVENT
BEGIN:VEVENT
DTSTART;TZID=UTC:20190822T100000
DTEND;TZID=UTC:20190822T180000
DTSTAMP:20260420T035744
CREATED:20190820T004225Z
LAST-MODIFIED:20190820T004303Z
UID:845-1566468000-1566496800@winn-knits.com
SUMMARY:Fibers Etc Annual Sale
DESCRIPTION:Fibers Etc. Annual Sale!\nAugust 22\,23\, 24\, & 26 (closed on Sunday) 10am- 6pm.  \nExcellent markdowns and amazing selections of beautiful luxury yarns on SALE!
URL:https://winn-knits.com/class/fibers-etc-annual-sale/
LOCATION:Fibers Etc\, 2511 South Hood St.\, Tacoma\, WA\, 98402\, United States
CATEGORIES:Annual Events
ATTACH;FMTTYPE=image/jpeg:https://winn-knits.com/wp-content/uploads/2019/08/winn-knits-featured-image-event-annual-sale.jpg
END:VEVENT
END:VCALENDAR