BEGIN:VCALENDAR
VERSION:2.0
PRODID:-//Winn Knits - ECPv6.15.17.1//NONSGML v1.0//EN
CALSCALE:GREGORIAN
METHOD:PUBLISH
X-ORIGINAL-URL:https://winn-knits.com
X-WR-CALDESC:Events for Winn Knits
REFRESH-INTERVAL;VALUE=DURATION:PT1H
X-Robots-Tag:noindex
X-PUBLISHED-TTL:PT1H
BEGIN:VTIMEZONE
TZID:UTC
BEGIN:STANDARD
TZOFFSETFROM:+0000
TZOFFSETTO:+0000
TZNAME:UTC
DTSTART:20180101T000000
END:STANDARD
END:VTIMEZONE
BEGIN:VEVENT
DTSTART;TZID=UTC:20190926T130000
DTEND;TZID=UTC:20190926T160000
DTSTAMP:20260420T010904
CREATED:20190725T123214Z
LAST-MODIFIED:20190725T123214Z
UID:614-1569502800-1569513600@winn-knits.com
SUMMARY:My First Sweater
DESCRIPTION:My First Sweater\nInstructor: Winn Archambeau-Muñoz \nThursday\, September 26th; 1:00pm-4:00pm \nYou have learned so many techniques it is time to make a sweater. In this class we will make a child’s sweater from start to finish: \n\nYarn selection\nGauge swatch\nDesign shaping (cardigan\, pull-over\, collar\, – all your choice)\nDetails\nFinishing\n\nAll the elements we learn will apply to an adult size garment. \nLevel: must be able to knit and purl\, cast-on\, bind-off\, increase\, and decrease. \nTools: 600 yards of worsted weight superwash yarn that knits to 5 sts to the inch. Appropriate needles (US 7 or 8)\, stitch holders\, stitch markers (locking and ring)\, crochet hook\, tapestry needle\, scissors\, and regular knitting supplies. \nHomework: Bring the yarn you wish to make the sweater out of. Come before class if you do not have the necessary materials and need to wind the yarn. If you wish to make an adult sweater\, let me know. \nNote: 10% off materials and supplies for class \nCost: $70 – 2 sessions
URL:https://winn-knits.com/class/my-first-sweater-2/
LOCATION:Fibers Etc\, 2511 South Hood St.\, Tacoma\, WA\, 98402\, United States
CATEGORIES:All Classes,Beyond The Basics Class Series
ATTACH;FMTTYPE=image/jpeg:https://winn-knits.com/wp-content/uploads/2019/06/winn-knits-beyond-the-basics-class-series.jpg
END:VEVENT
BEGIN:VEVENT
DTSTART;TZID=UTC:20190924T130000
DTEND;TZID=UTC:20190924T160000
DTSTAMP:20260420T010904
CREATED:20190725T123721Z
LAST-MODIFIED:20190725T123721Z
UID:605-1569330000-1569340800@winn-knits.com
SUMMARY:Basic Finishing Techniques
DESCRIPTION:You have worked so hard – now take the final steps to beautiful projects!\nInstructor: Winn Archambeau-Muñoz \nTuesday\, September 24th; 1:00pm-4:00pm \nHow many of us have nearly completed projects in our stash?  All they need is just the final touches.  Come and learn the simple techniques to a lovely finish.  We will discuss different kinds of blocking\, bind offs and pattern reading to insure correct shaping and sizing. \nWe will practice sewing a variety of seams in a variety of stitches\, and making 1-row- button holes\, as well as grafting and 3 needle bind-off. We will cover ways to hide and to weave in ends. Learn some short-cuts to take and some not to take so you will leave ready to finish you projects beautifully. Never let another lovely piece of knitting be left sitting unfinished. \nLevel: must be able to knit and purl. \nTools: worsted weight yarn\, US 7 or 8 needles\, crochet hook\, curved tapestry needle\, markers\, and regular knitting supplies \nHomework: Bring any project you have questions about. Make 5 swatches in worsted weight yarn of 15 stitches by and 15 rows. 3 in stockinette stitch (knit one row; purl one row) and 2 in garter (knit all rows). \nNote: 10% off materials and supplies for class \nCost: $35 single session
URL:https://winn-knits.com/class/basic-finishing-techniques/
LOCATION:Fibers Etc\, 2511 South Hood St.\, Tacoma\, WA\, 98402\, United States
CATEGORIES:All Classes,Beyond The Basics Class Series
ATTACH;FMTTYPE=image/jpeg:https://winn-knits.com/wp-content/uploads/2019/06/winn-knits-beyond-the-basics-class-series.jpg
END:VEVENT
BEGIN:VEVENT
DTSTART;TZID=UTC:20190813T133000
DTEND;TZID=UTC:20190813T163000
DTSTAMP:20260420T010904
CREATED:20190725T140300Z
LAST-MODIFIED:20190725T140300Z
UID:612-1565703000-1565713800@winn-knits.com
SUMMARY:Short Rows Unraveled
DESCRIPTION:Short Rows Unraveled\nInstructor: Winn Archambeau-Muñoz \nTuesday\, August 13th; 1:30pm-4:30pm \nShort rows can be found in so many patterns from shawls to wraps\, shoulder shapings to socks\, and more. Wrap and turn is the method that usually is requested in the pattern\, but there are several other methods that I think are easier to knit up and are nearly invisible from both sides (which is important for shawls or cowls). \nIn this class we will learn the German Short row method. Other techniques will be demonstrated\, and we will learn how to translate the wrap and turn method into a much easier technique. We will make two or three samples that apply the German short row method: \n\nA basic example of short rows in knitting and purling\nA hemisphere that can turn into a pincushion\nA Swing pattern\n\nLeave the class ready to incorporate German short rows into your future knitting projects. A free Swing pattern will allow you to practice this great technique or you can bring your own pattern using short rows. \nLevel: must be able to knit and purl. \nTools: worsted weight yarn\, which is best for practicing\, along with appropriate size needles (US size 7 or 8)\, regular knitting supplies\, a crochet hook\, curved tapestry needle\, stitch markers – pin variety and slip on kind\, and regular knitting supplies. \nHomework: None \nNote: 10% off materials and supplies for class \nCost: $35 single session
URL:https://winn-knits.com/class/short-rows-unraveled/
LOCATION:Fibers Etc\, 2511 South Hood St.\, Tacoma\, WA\, 98402\, United States
CATEGORIES:All Classes,Beyond The Basics Class Series
ATTACH;FMTTYPE=image/jpeg:https://winn-knits.com/wp-content/uploads/2019/06/winn-knits-beyond-the-basics-class-series.jpg
END:VEVENT
END:VCALENDAR