BEGIN:VCALENDAR
VERSION:2.0
PRODID:-//Winn Knits - ECPv6.15.17.1//NONSGML v1.0//EN
CALSCALE:GREGORIAN
METHOD:PUBLISH
X-ORIGINAL-URL:https://winn-knits.com
X-WR-CALDESC:Events for Winn Knits
REFRESH-INTERVAL;VALUE=DURATION:PT1H
X-Robots-Tag:noindex
X-PUBLISHED-TTL:PT1H
BEGIN:VTIMEZONE
TZID:America/Denver
BEGIN:DAYLIGHT
TZOFFSETFROM:-0700
TZOFFSETTO:-0600
TZNAME:MDT
DTSTART:20200308T090000
END:DAYLIGHT
BEGIN:STANDARD
TZOFFSETFROM:-0600
TZOFFSETTO:-0700
TZNAME:MST
DTSTART:20201101T080000
END:STANDARD
BEGIN:DAYLIGHT
TZOFFSETFROM:-0700
TZOFFSETTO:-0600
TZNAME:MDT
DTSTART:20210314T090000
END:DAYLIGHT
BEGIN:STANDARD
TZOFFSETFROM:-0600
TZOFFSETTO:-0700
TZNAME:MST
DTSTART:20211107T080000
END:STANDARD
BEGIN:DAYLIGHT
TZOFFSETFROM:-0700
TZOFFSETTO:-0600
TZNAME:MDT
DTSTART:20220313T090000
END:DAYLIGHT
BEGIN:STANDARD
TZOFFSETFROM:-0600
TZOFFSETTO:-0700
TZNAME:MST
DTSTART:20221106T080000
END:STANDARD
END:VTIMEZONE
BEGIN:VTIMEZONE
TZID:UTC
BEGIN:STANDARD
TZOFFSETFROM:+0000
TZOFFSETTO:+0000
TZNAME:UTC
DTSTART:20180101T000000
END:STANDARD
END:VTIMEZONE
BEGIN:VEVENT
DTSTART;TZID=America/Denver:20210925T090000
DTEND;TZID=America/Denver:20210925T120000
DTSTAMP:20260419T232819
CREATED:20210804T204625Z
LAST-MODIFIED:20210804T204625Z
UID:964-1632560400-1632571200@winn-knits.com
SUMMARY:Shawl – Recipes and Riffs – Session 2
DESCRIPTION:Shawl Recipes – Recipes and Riffs – a look at basic shawl shapes and how to knit them – Session 2\nInstructor: Winn Archambeau-Muñoz \nSaturday\, September 25th;  9:00am – 12:00pm \nHave you ever seen the most gorgeous yarn and just wanted to start working with it right away?  Were you worried that you did not know how to go about it? In this class we will explore  fundamental shawl shapes and recipes to make them:  rectangles\, squares\, triangles\, crescents\, circles\, and semicircles. Then we will see how changing numbers and placements of increases can transform basic shapes into interesting and original pieces. \nWe will make mini samples of selected ones so that you will have experience and an example of the transformations. This will allow you to select the design you want and make your own shawl. Yardage and stitch numbers for your original will be determined based on your selections. \nLevel: Must be comfortable knitting\, purling\, and casting on. \nMaterials: About 50 yards of DK or worsted weight yarn and appropriate needles for your yarn\, stitch markers\, pencil\, paper and usual knitting supplies. \nNote: 10% off materials and supplies \nCost: $70 for 2 sessions
URL:https://winn-knits.com/class/shawl-recipes-and-riffs-session-2/
LOCATION:Fibers Etc\, 2511 South Hood St.\, Tacoma\, WA\, 98402\, United States
CATEGORIES:All Classes,Let's Get Started Class Series
ATTACH;FMTTYPE=image/jpeg:https://winn-knits.com/wp-content/uploads/2019/06/winn-knits-lets-get-started-class-series.jpg
END:VEVENT
BEGIN:VEVENT
DTSTART;TZID=America/Denver:20210918T090000
DTEND;TZID=America/Denver:20210918T120000
DTSTAMP:20260419T232819
CREATED:20210804T204344Z
LAST-MODIFIED:20210804T204344Z
UID:961-1631955600-1631966400@winn-knits.com
SUMMARY:Shawl – Recipes and Riffs - Session 1
DESCRIPTION:Shawl Recipes – Recipes and Riffs – a look at basic shawl shapes and how to knit them – Session 1\nInstructor: Winn Archambeau-Muñoz \nSaturday\, September 18th;  9:00am – 12:00pm \nHave you ever seen the most gorgeous yarn and just wanted to start working with it right away?  Were you worried that you did not know how to go about it? In this class we will explore  fundamental shawl shapes and recipes to make them:  rectangles\, squares\, triangles\, crescents\, circles\, and semicircles. Then we will see how changing numbers and placements of increases can transform basic shapes into interesting and original pieces. \nWe will make mini samples of selected ones so that you will have experience and an example of the transformations. This will allow you to select the design you want and make your own shawl. Yardage and stitch numbers for your original will be determined based on your selections. \nLevel: Must be comfortable knitting\, purling\, and casting on. \nMaterials: About 50 yards of DK or worsted weight yarn and appropriate needles for your yarn\, stitch markers\, pencil\, paper and usual knitting supplies. \nNote: 10% off materials and supplies \nCost: $70 for 2 sessions
URL:https://winn-knits.com/class/shawl-recipes-and-riffs-session-1/
LOCATION:Fibers Etc\, 2511 South Hood St.\, Tacoma\, WA\, 98402\, United States
CATEGORIES:All Classes,Let's Get Started Class Series
ATTACH;FMTTYPE=image/jpeg:https://winn-knits.com/wp-content/uploads/2019/06/winn-knits-lets-get-started-class-series.jpg
END:VEVENT
BEGIN:VEVENT
DTSTART;TZID=America/Denver:20210817T130000
DTEND;TZID=America/Denver:20210817T143000
DTSTAMP:20260419T232819
CREATED:20210804T201350Z
LAST-MODIFIED:20210804T201350Z
UID:958-1629205200-1629210600@winn-knits.com
SUMMARY:Toe-Up Sock Basics - Session 2
DESCRIPTION:Toe-Up Sock Basics – Session 2\nInstructor: Winn Archambeau-Muñoz \nTuesday\, August 17th;  1:00pm – 2:30pm \nToe-Up Sock Basics – is designed to teach you the basics of making a sock beginning at the toe using a worsted weight (No 4)\, 5 stitches- to- the- inch yarn. For needles use a US 7 or 8 and choose your favorite method for working a small circumference in the round (double pointed needles\, 24 in circular needle for magic loop\, Flexi Flips or 2 circular needles). \nWe will make a single miniature toe-up sock that you can use as your model. We will cover Judy’s Magic Cast-on\, increases\, decreases\, making a gusset\, short-row heels\, heel flaps\, and stretchy bind offs. This one sock will be a small version of what a regular sock would look like and use all the skills necessary for a full-size toe-up sock. The class includes a follow-up session to help you trouble shoot and plan or begin your actual sock project. Socks make a super great summer or travel knitting project because they are easily carried\, can get you started on your holiday gift list and can be as simple or as complex as you like. \nLevel: must be able to knit and purl and be comfortable knitting in the round. \nMaterials: 50 yards of worsted weight yarn\, your choice of needles (US 7 or 8) for working in the round\, scissors\, 2 different color stitch markers\, pen\, pencil\, eraser\, post-it notes\, and general knitting supplies. \nNote: 10% off materials and supplies \nCost: $50 for 2 sessions
URL:https://winn-knits.com/class/toe-up-sock-basics-session-2/
LOCATION:Fibers Etc\, 2511 South Hood St.\, Tacoma\, WA\, 98402\, United States
CATEGORIES:All Classes,Let's Get Started Class Series
ATTACH;FMTTYPE=image/jpeg:https://winn-knits.com/wp-content/uploads/2019/06/winn-knits-lets-get-started-class-series.jpg
END:VEVENT
BEGIN:VEVENT
DTSTART;TZID=America/Denver:20210810T113000
DTEND;TZID=America/Denver:20210810T143000
DTSTAMP:20260419T232819
CREATED:20210804T200950Z
LAST-MODIFIED:20210804T201239Z
UID:955-1628595000-1628605800@winn-knits.com
SUMMARY:Toe-Up Sock Basics - Session 1
DESCRIPTION:Toe-Up Sock Basics – Session 1\nInstructor: Winn Archambeau-Muñoz \nTuesday\, August 10th;  11:30am – 2:30pm \nToe-Up Sock Basics – is designed to teach you the basics of making a sock beginning at the toe using a worsted weight (No 4)\, 5 stitches- to- the- inch yarn. For needles use a US 7 or 8 and choose your favorite method for working a small circumference in the round (double pointed needles\, 24 in circular needle for magic loop\, Flexi Flips or 2 circular needles). \nWe will make a single miniature toe-up sock that you can use as your model. We will cover Judy’s Magic Cast-on\, increases\, decreases\, making a gusset\, short-row heels\, heel flaps\, and stretchy bind offs. This one sock will be a small version of what a regular sock would look like and use all the skills necessary for a full-size toe-up sock. The class includes a follow-up session to help you trouble shoot and plan or begin your actual sock project. Socks make a super great summer or travel knitting project because they are easily carried\, can get you started on your holiday gift list and can be as simple or as complex as you like. \nLevel: must be able to knit and purl and be comfortable knitting in the round. \nMaterials: 50 yards of worsted weight yarn\, your choice of needles (US 7 or 8) for working in the round\, scissors\, 2 different color stitch markers\, pen\, pencil\, eraser\, post-it notes\, and general knitting supplies. \nNote: 10% off materials and supplies \nCost: $50 for 2 sessions
URL:https://winn-knits.com/class/toe-up-sock-basics-session-1/
LOCATION:Fibers Etc\, 2511 South Hood St.\, Tacoma\, WA\, 98402\, United States
CATEGORIES:All Classes,Let's Get Started Class Series
ATTACH;FMTTYPE=image/jpeg:https://winn-knits.com/wp-content/uploads/2019/06/winn-knits-lets-get-started-class-series.jpg
END:VEVENT
BEGIN:VEVENT
DTSTART;TZID=UTC:20191107T130000
DTEND;TZID=UTC:20191107T163000
DTSTAMP:20260419T232819
CREATED:20191030T033016Z
LAST-MODIFIED:20191030T033016Z
UID:903-1573131600-1573144200@winn-knits.com
SUMMARY:Ready? Set? Go!
DESCRIPTION:Patterns\, Charts\, Yarn substitution\, Ease\, Huh?\nInstructor: Winn Archambeau-Muñoz \nThursday\, November 7th; 1:00pm-4:30pm \nWant to make something beyond a potholder or knit-to-the-end of the skein scarf? This class covers the basics of interpreting patterns and the information that we find in them. We will explain and reveal such pattern information as – pattern gauge\, ball band gauge\, yarn substitution\, and ease.  Want to try a lace pattern?  We will learn how to read charts.  For those who are interested\, bring your tablets for a special Knit Companion (a free app) tutorial.  Leave ready to understand and try new patterns with confidence. \nLevel:  knitters must be able to knit\, purl\, and cast on. \nMaterials: 2 skeins worsted weight smooth yarn – preferably very different colors\, Size US 7 or 8 needle\, basic knitting supplies\, crochet hook several sizes\, very sharp scissors. Tablet if desired. \nNote: 10% off materials and supplies \nCost: $35 \n 
URL:https://winn-knits.com/class/ready-set-go/
LOCATION:Fibers Etc\, 2511 South Hood St.\, Tacoma\, WA\, 98402\, United States
CATEGORIES:All Classes,Let's Get Started Class Series
ATTACH;FMTTYPE=image/jpeg:https://winn-knits.com/wp-content/uploads/2019/06/winn-knits-lets-get-started-class-series.jpg
END:VEVENT
BEGIN:VEVENT
DTSTART;TZID=UTC:20190730T133000
DTEND;TZID=UTC:20190730T163000
DTSTAMP:20260419T232819
CREATED:20190725T140653Z
LAST-MODIFIED:20190725T140653Z
UID:607-1564493400-1564504200@winn-knits.com
SUMMARY:Knitting in the Round
DESCRIPTION:3 Ways! Pick Yours!\nInstructor: Winn Archambeau-Muñoz \nTuesday\, July 30th; 1:30pm-4:30pm \nSo many projects are made in the round from hats and socks to sweaters and just about anything. \nWe will learn the 3 basic methods of knitting in the round: \n\nDouble-pointed needles (DPNs)\n2 circulars\nMagic loop\n\nWe will practice casting on\, joining\, knitting\, and binding off in the round.  Pick your favorite method and leave with the beginning of a mitt (pattern provided or Interweave – Fall 2019 has great mitt patterns.) and start on your own circular project. \nLevel: must be able to knit and purl. \nTools: For practice please bring worsted weight yarn\, a set of DPNs\, 2 circular needles (1 of any length and 1 at least 32 inches in length). Your needle size should be appropriate for the yarn (US 7 or 8).  The mitt pattern is for worsted weight. If you want to start a different project\, also bring the necessary yarn with appropriate needles. Also please bring regular knitting supplies: locking & regular stitch markers\, a crochet hook\, tapestry needle and scissors. \nHomework: If you want to start a different project\, please bring the necessary yarn with appropriate needles. \nNote: 10% off materials and supplies for class \nCost: $35 single session
URL:https://winn-knits.com/class/knitting-in-the-round/
LOCATION:Fibers Etc\, 2511 South Hood St.\, Tacoma\, WA\, 98402\, United States
CATEGORIES:All Classes,Let's Get Started Class Series
ATTACH;FMTTYPE=image/jpeg:https://winn-knits.com/wp-content/uploads/2019/06/winn-knits-lets-get-started-class-series.jpg
END:VEVENT
BEGIN:VEVENT
DTSTART;TZID=UTC:20190718T133000
DTEND;TZID=UTC:20190718T163000
DTSTAMP:20260419T232819
CREATED:20190725T140527Z
LAST-MODIFIED:20190725T140527Z
UID:610-1563456600-1563467400@winn-knits.com
SUMMARY:To Fix or Not to Fix
DESCRIPTION:How to recognize mistakes and what to do about them!\nInstructor: Winn Archambeau-Muñoz \nThursday\, July 18th; 1:30pm-4:30pm \nThere is a learning curve to any skill and knitting is no exception. It is a myth to believe that experienced knitters never make mistakes. In fact\, they do. What they have learned is how to recognize their mistakes and what tools to use to fix the mistakes (or NOT to fix them).  Come join us for a session to learn about stitch level and pattern level mistakes\, how to recognize them\, and what to do about them.  Some “oops” we will cover include dropped stitches\, yarn overs\, too few stitches\, too many stitches\, twisted stitches\, direction changes\, pattern reading\, dropped cable stitches\, lace boo boos and many more. Come and learn to fix or not to fix. \nLevel: must be able to knit and purl. \nTools: a crochet hook\, yarn and appropriate size needles (worsted weight best with US size 7 or 8)\, curved tapestry needle\, a pair of needles several sizes smaller than the ones for the yarn (US size 3 or 4)\, stitch markers – pin variety and slip on kind. Fix it kits are available for purchase for $10. \nHomework: Cast on 26 stitches and knit 3 rows of garter stitch. (Knit every st\, every row). Then: Row 4 – Knit all sts; Row 5 – Knit 3 sts\, Purl 20\, K 3 ; Row 6- K26. Repeat rows 5 and 6 ten times. Leave work in active mode. \nNote: 10% off materials and supplies for class \nCost: $35 single session \n 
URL:https://winn-knits.com/class/to-fix-or-not-to-fix/
LOCATION:Fibers Etc\, 2511 South Hood St.\, Tacoma\, WA\, 98402\, United States
CATEGORIES:All Classes,Let's Get Started Class Series
ATTACH;FMTTYPE=image/jpeg:https://winn-knits.com/wp-content/uploads/2019/06/winn-knits-lets-get-started-class-series.jpg
END:VEVENT
END:VCALENDAR