BEGIN:VCALENDAR
VERSION:2.0
PRODID:-//Winn Knits - ECPv6.15.17.1//NONSGML v1.0//EN
CALSCALE:GREGORIAN
METHOD:PUBLISH
X-ORIGINAL-URL:https://winn-knits.com
X-WR-CALDESC:Events for Winn Knits
REFRESH-INTERVAL;VALUE=DURATION:PT1H
X-Robots-Tag:noindex
X-PUBLISHED-TTL:PT1H
BEGIN:VTIMEZONE
TZID:UTC
BEGIN:STANDARD
TZOFFSETFROM:+0000
TZOFFSETTO:+0000
TZNAME:UTC
DTSTART:20180101T000000
END:STANDARD
END:VTIMEZONE
BEGIN:VEVENT
DTSTART;TZID=UTC:20191218T090000
DTEND;TZID=UTC:20191218T130000
DTSTAMP:20260419T232837
CREATED:20191211T005728Z
LAST-MODIFIED:20191211T010207Z
UID:927-1576659600-1576674000@winn-knits.com
SUMMARY:Holiday Knitting – Gifts\, Wreaths\, Decorations\, or???
DESCRIPTION:Holiday Knitting – Gifts\, Wreaths\, Decorations\, or???\nInstructor: Winn Archambeau-Muñoz \nWednesday\, December 18th;  9:00am – 1:00pm \nAre you ready for the holidays? Our Holiday Knitting class was so popular we decided to offer it two more times! You can make a wreath\, mini sweaters as ornaments\, mini wreaths for garlands\, tree pillows\, funky Christmas trees\, or Christmas balls. Bring a friend and come have some fun. Everyone left class with at least 2 projects started and lots of ideas for a few more. \nCome join us and get great ideas and begin quick gifts and projects of one skein or less. We will have some free patterns for ornaments\, favors\, headbands and scarves Leave with at least one gift to be crossed off your list. \nLevel: Knitters must be able to knit\, purl\, and cast on. \nMaterials: Fun yarn from your stash or ours\, Size  needles appropriate for yarn\, basic knitting supplies\, crochet hook several sizes\, very sharp scissors. \nNote: 10% off materials and supplies \nCost: $35
URL:https://winn-knits.com/class/927/
LOCATION:Fibers Etc\, 2511 South Hood St.\, Tacoma\, WA\, 98402\, United States
CATEGORIES:All Classes,Projects And More Series
ATTACH;FMTTYPE=image/jpeg:https://winn-knits.com/wp-content/uploads/2019/07/winn-knits-projects-and-more-class-series.jpg
END:VEVENT
BEGIN:VEVENT
DTSTART;TZID=UTC:20191212T100000
DTEND;TZID=UTC:20191212T140000
DTSTAMP:20260419T232837
CREATED:20191211T004916Z
LAST-MODIFIED:20191211T005116Z
UID:920-1576144800-1576159200@winn-knits.com
SUMMARY:Holiday Knitting – Gifts\, Wreaths\, Decorations\, or???
DESCRIPTION:Holiday Knitting – Gifts\, Wreaths\, Decorations\, or???\nInstructor: Winn Archambeau-Muñoz \nThursday\, December 12th;  10:00am – 2:00pm \nAre you ready for the holidays? Our Holiday Knitting class was so popular we decided to offer it two more times! You can make a wreath\, mini sweaters as ornaments\, mini wreaths for garlands\, tree pillows\, funky Christmas trees\, or Christmas balls. Bring a friend and come have some fun. Everyone left class with at least 2 projects started and lots of ideas for a few more. \nCome join us and get great ideas and begin quick gifts and projects of one skein or less. We will have some free patterns for ornaments\, favors\, headbands and scarves Leave with at least one gift to be crossed off your list. \nLevel: Knitters must be able to knit\, purl\, and cast on. \nMaterials: Fun yarn from your stash or ours\, Size  needles appropriate for yarn\, basic knitting supplies\, crochet hook several sizes\, very sharp scissors. \nNote: 10% off materials and supplies \nCost: $35
URL:https://winn-knits.com/class/holiday-knitting-gifts-wreaths-decorations-or/
LOCATION:Fibers Etc\, 2511 South Hood St.\, Tacoma\, WA\, 98402\, United States
CATEGORIES:All Classes,Projects And More Series
ATTACH;FMTTYPE=image/jpeg:https://winn-knits.com/wp-content/uploads/2019/07/winn-knits-projects-and-more-class-series.jpg
END:VEVENT
BEGIN:VEVENT
DTSTART;TZID=UTC:20191205T100000
DTEND;TZID=UTC:20191205T140000
DTSTAMP:20260419T232837
CREATED:20191030T041625Z
LAST-MODIFIED:20191030T041625Z
UID:914-1575540000-1575554400@winn-knits.com
SUMMARY:Holiday Knitting – Gifts\, Decorations\, or???
DESCRIPTION:Holiday Knitting – Gifts\, Decorations\, or???\nInstructor: Winn Archambeau-Muñoz \nThursday\, December 5th;  10:00am – 2:00pm \nAre you ready for the holidays? Come join us and get great ideas and begin quick gifts and projects of one skein or less. We will have some free patterns for ornaments\, favors\, and scarves. Leave with at least one gift to be crossed off your list. \nLevel:  knitters must be able to knit\, purl\, and cast on. \nMaterials: Fun yarn from your stash or ours\, Size  needles appropriate for yarn\, basic knitting supplies\, crochet hook several sizes\, very sharp scissors. \nNote: 10% off materials and supplies \nCost: $35
URL:https://winn-knits.com/class/holiday-knitting-gifts-decorations-or/
LOCATION:Fibers Etc\, 2511 South Hood St.\, Tacoma\, WA\, 98402\, United States
CATEGORIES:All Classes,Projects And More Series
ATTACH;FMTTYPE=image/jpeg:https://winn-knits.com/wp-content/uploads/2019/07/winn-knits-projects-and-more-class-series.jpg
END:VEVENT
BEGIN:VEVENT
DTSTART;TZID=UTC:20191023T100000
DTEND;TZID=UTC:20191023T140000
DTSTAMP:20260419T232837
CREATED:20191030T025220Z
LAST-MODIFIED:20191030T025220Z
UID:889-1571824800-1571839200@winn-knits.com
SUMMARY:Simple Summer Tee
DESCRIPTION:Simple Summer Tee\nInstructor: Winn Archambeau-Muñoz \nThursday\, October 23rd; 10:00am-2:00pm \nSummer is a great time to make a cool tee that has an airy design and is made in a lovely light-weight yarn that knits up quickly. You can choose to make it short or tunic length. Because it is knit in the round after the top is done\, you can try it on to make your tee fit you perfectly. The design is for a boxy lace top that is knit to the width of your hips. You will have a variety of 6-8 open stitches to combine in your own design. In this class we map out the pattern to fit your size\, practice the designs you select\, and you leave with your top planned and started! Come in early if you want to select your yarn. We will be making a dropped shoulder tee with interesting patterns that include twisted dropped stitch and others that are easily memorized and work up quickly. \nLevel: must be able to: knit and purl\, cast-on and bind-off; increase and decrease and knit in the round. \nTools: 600 – 1\,000 yards depending on the weight of yarn you choose and how long you want to make it. DK or worsted would be fine.  Consider cotton or linen for summer or wool if it is for winter. (See me before class.)  Appropriate needles for your yarn\, stitch holders\, stitch markers (locking and ring)\, crochet hook\, tapestry needle\, scissors\, waste yarn for lifelines\, row marker and regular knitting supplies. \nHomework: Bring your yarn for the tee and enough yarn to work the patterns for the gauge swatch. \nNote: 10% off materials and supplies for class \nCost: $35 single session
URL:https://winn-knits.com/class/simple-summer-tee-4/
LOCATION:Fibers Etc\, 2511 South Hood St.\, Tacoma\, WA\, 98402\, United States
CATEGORIES:All Classes,Projects And More Series
ATTACH;FMTTYPE=image/jpeg:https://winn-knits.com/wp-content/uploads/2019/07/winn-knits-projects-and-more-class-series.jpg
END:VEVENT
BEGIN:VEVENT
DTSTART;TZID=UTC:20191022T130000
DTEND;TZID=UTC:20191022T160000
DTSTAMP:20260419T232837
CREATED:20191030T024610Z
LAST-MODIFIED:20191030T024610Z
UID:887-1571749200-1571760000@winn-knits.com
SUMMARY:Simple Summer Tee
DESCRIPTION:Simple Summer Tee\nInstructor: Winn Archambeau-Muñoz \nTuesday\, October 22nd; 1:00pm-4:00pm \nSummer is a great time to make a cool tee that has an airy design and is made in a lovely light-weight yarn that knits up quickly. You can choose to make it short or tunic length. Because it is knit in the round after the top is done\, you can try it on to make your tee fit you perfectly. The design is for a boxy lace top that is knit to the width of your hips. You will have a variety of 6-8 open stitches to combine in your own design. In this class we map out the pattern to fit your size\, practice the designs you select\, and you leave with your top planned and started! Come in early if you want to select your yarn. We will be making a dropped shoulder tee with interesting patterns that include twisted dropped stitch and others that are easily memorized and work up quickly. \nLevel: must be able to: knit and purl\, cast-on and bind-off; increase and decrease and knit in the round. \nTools: 600 – 1\,000 yards depending on the weight of yarn you choose and how long you want to make it. DK or worsted would be fine.  Consider cotton or linen for summer or wool if it is for winter. (See me before class.)  Appropriate needles for your yarn\, stitch holders\, stitch markers (locking and ring)\, crochet hook\, tapestry needle\, scissors\, waste yarn for lifelines\, row marker and regular knitting supplies. \nHomework: Bring your yarn for the tee and enough yarn to work the patterns for the gauge swatch. \nNote: 10% off materials and supplies for class \nCost: $35 single session
URL:https://winn-knits.com/class/simple-summer-tee-3/
LOCATION:Fibers Etc\, 2511 South Hood St.\, Tacoma\, WA\, 98402\, United States
CATEGORIES:All Classes,Projects And More Series
ATTACH;FMTTYPE=image/jpeg:https://winn-knits.com/wp-content/uploads/2019/07/winn-knits-projects-and-more-class-series.jpg
END:VEVENT
BEGIN:VEVENT
DTSTART;TZID=UTC:20191022T090000
DTEND;TZID=UTC:20191022T130000
DTSTAMP:20260419T232837
CREATED:20191030T002350Z
LAST-MODIFIED:20191030T024203Z
UID:883-1571734800-1571749200@winn-knits.com
SUMMARY:Simple Summer Tee
DESCRIPTION:Simple Summer Tee\nInstructor: Winn Archambeau-Muñoz \nTuesday\, October 22nd; 9:00am-1:00pm \nSummer is a great time to make a cool tee that has an airy design and is made in a lovely light-weight yarn that knits up quickly. You can choose to make it short or tunic length. Because it is knit in the round after the top is done\, you can try it on to make your tee fit you perfectly. The design is for a boxy lace top that is knit to the width of your hips. You will have a variety of 6-8 open stitches to combine in your own design. In this class we map out the pattern to fit your size\, practice the designs you select\, and you leave with your top planned and started! Come in early if you want to select your yarn. We will be making a dropped shoulder tee with interesting patterns that include twisted dropped stitch and others that are easily memorized and work up quickly. \nLevel: must be able to: knit and purl\, cast-on and bind-off; increase and decrease and knit in the round. \nTools: 600 – 1\,000 yards depending on the weight of yarn you choose and how long you want to make it. DK or worsted would be fine.  Consider cotton or linen for summer or wool if it is for winter. (See me before class.)  Appropriate needles for your yarn\, stitch holders\, stitch markers (locking and ring)\, crochet hook\, tapestry needle\, scissors\, waste yarn for lifelines\, row marker and regular knitting supplies. \nHomework: Bring your yarn for the tee and enough yarn to work the patterns for the gauge swatch. \nNote: 10% off materials and supplies for class \nCost: $35 single session
URL:https://winn-knits.com/class/883/
LOCATION:Fibers Etc\, 2511 South Hood St.\, Tacoma\, WA\, 98402\, United States
CATEGORIES:All Classes,Projects And More Series
ATTACH;FMTTYPE=image/jpeg:https://winn-knits.com/wp-content/uploads/2019/07/winn-knits-projects-and-more-class-series.jpg
END:VEVENT
BEGIN:VEVENT
DTSTART;TZID=UTC:20190815T133000
DTEND;TZID=UTC:20190815T163000
DTSTAMP:20260419T232837
CREATED:20190725T121213Z
LAST-MODIFIED:20190725T122353Z
UID:636-1565875800-1565886600@winn-knits.com
SUMMARY:Simple Summer Tee
DESCRIPTION:Simple Summer Tee\nInstructor: Winn Archambeau-Muñoz \nThursday\, August 15th; 1:30pm-4:30pm \nSummer is a great time to make a cool tee that has an airy design and is made in a lovely light-weight yarn that knits up quickly. You can choose to make it short or tunic length. Because it is knit in the round after the top is done\, you can try it on to make your tee fit you perfectly. The design is for a boxy lace top that is knit to the width of your hips. You will have a variety of 6-8 open stitches to combine in your own design. In this class we map out the pattern to fit your size\, practice the designs you select\, and you leave with your top planned and started! Come in early if you want to select your yarn. We will be making a dropped shoulder tee with interesting patterns that include twisted dropped stitch and others that are easily memorized and work up quickly. \nLevel: must be able to: knit and purl\, cast-on and bind-off; increase and decrease and knit in the round. \nTools: 600 – 1\,000 yards depending on the weight of yarn you choose and how long you want to make it. DK or worsted would be fine.  Consider cotton or linen for summer or wool if it is for winter. (See me before class.)  Appropriate needles for your yarn\, stitch holders\, stitch markers (locking and ring)\, crochet hook\, tapestry needle\, scissors\, waste yarn for lifelines\, row marker and regular knitting supplies. \nHomework: Bring your yarn for the tee and enough yarn to work the patterns for the gauge swatch. \nNote: 10% off materials and supplies for class \nCost: $35 single session
URL:https://winn-knits.com/class/simple-summer-tee/
LOCATION:Fibers Etc\, 2511 South Hood St.\, Tacoma\, WA\, 98402\, United States
CATEGORIES:All Classes,Projects And More Series
ATTACH;FMTTYPE=image/jpeg:https://winn-knits.com/wp-content/uploads/2019/07/winn-knits-projects-and-more-class-series.jpg
END:VEVENT
BEGIN:VEVENT
DTSTART;TZID=UTC:20190723T133000
DTEND;TZID=UTC:20190723T163000
DTSTAMP:20260419T232837
CREATED:20190725T140202Z
LAST-MODIFIED:20190725T140202Z
UID:634-1563888600-1563899400@winn-knits.com
SUMMARY:Simple Summer Tee
DESCRIPTION:Simple Summer Tee\nInstructor: Winn Archambeau-Muñoz \nTuesday\, July 23rd; 1:30pm-4:30pm \nSummer is a great time to make a cool tee that has an airy design and is made in a lovely light-weight yarn that knits up quickly. You can choose to make it short or tunic length. Because it is knit in the round after the top is done\, you can try it on to make your tee fit you perfectly. The design is for a boxy lace top that is knit to the width of your hips. You will have a variety of 6-8 open stitches to combine in your own design. In this class we map out the pattern to fit your size\, practice the designs you select\, and you leave with your top planned and started! Come in early if you want to select your yarn. We will be making a dropped shoulder tee with interesting patterns that include twisted dropped stitch and others that are easily memorized and work up quickly. \nLevel: must be able to: knit and purl\, cast-on and bind-off; increase and decrease and knit in the round. \nTools: 600 – 1\,000 yards depending on the weight of yarn you choose and how long you want to make it. DK or worsted would be fine.  Consider cotton or linen for summer or wool if it is for winter. (See me before class.)  Appropriate needles for your yarn\, stitch holders\, stitch markers (locking and ring)\, crochet hook\, tapestry needle\, scissors\, waste yarn for lifelines\, row marker and regular knitting supplies. \nHomework: Bring your yarn for the tee and enough yarn to work the patterns for the gauge swatch. \nNote: 10% off materials and supplies for class \nCost: $35 single session
URL:https://winn-knits.com/class/simple-summer-tee-2/
LOCATION:Fibers Etc\, 2511 South Hood St.\, Tacoma\, WA\, 98402\, United States
CATEGORIES:All Classes,Projects And More Series
ATTACH;FMTTYPE=image/jpeg:https://winn-knits.com/wp-content/uploads/2019/07/winn-knits-projects-and-more-class-series.jpg
END:VEVENT
END:VCALENDAR