BEGIN:VCALENDAR
VERSION:2.0
PRODID:-//Winn Knits - ECPv6.15.17.1//NONSGML v1.0//EN
CALSCALE:GREGORIAN
METHOD:PUBLISH
X-ORIGINAL-URL:https://winn-knits.com
X-WR-CALDESC:Events for Winn Knits
REFRESH-INTERVAL;VALUE=DURATION:PT1H
X-Robots-Tag:noindex
X-PUBLISHED-TTL:PT1H
BEGIN:VTIMEZONE
TZID:America/Denver
BEGIN:DAYLIGHT
TZOFFSETFROM:-0700
TZOFFSETTO:-0600
TZNAME:MDT
DTSTART:20200308T090000
END:DAYLIGHT
BEGIN:STANDARD
TZOFFSETFROM:-0600
TZOFFSETTO:-0700
TZNAME:MST
DTSTART:20201101T080000
END:STANDARD
BEGIN:DAYLIGHT
TZOFFSETFROM:-0700
TZOFFSETTO:-0600
TZNAME:MDT
DTSTART:20210314T090000
END:DAYLIGHT
BEGIN:STANDARD
TZOFFSETFROM:-0600
TZOFFSETTO:-0700
TZNAME:MST
DTSTART:20211107T080000
END:STANDARD
BEGIN:DAYLIGHT
TZOFFSETFROM:-0700
TZOFFSETTO:-0600
TZNAME:MDT
DTSTART:20220313T090000
END:DAYLIGHT
BEGIN:STANDARD
TZOFFSETFROM:-0600
TZOFFSETTO:-0700
TZNAME:MST
DTSTART:20221106T080000
END:STANDARD
END:VTIMEZONE
BEGIN:VTIMEZONE
TZID:UTC
BEGIN:STANDARD
TZOFFSETFROM:+0000
TZOFFSETTO:+0000
TZNAME:UTC
DTSTART:20180101T000000
END:STANDARD
END:VTIMEZONE
BEGIN:VEVENT
DTSTART;TZID=America/Denver:20210911T100000
DTEND;TZID=America/Denver:20210911T150000
DTSTAMP:20260420T023557
CREATED:20210804T215218Z
LAST-MODIFIED:20210804T215218Z
UID:975-1631354400-1631372400@winn-knits.com
SUMMARY:Weaving on a Rigid Loom – an introductory class for beginning weavers
DESCRIPTION:Weaving on a Rigid Heddle Loom –  an introductory class for beginning weavers\nInstructor: Roberta Lowes \nSaturday\, September 11th; 10:00am- 3:00 pm  \n$35 per session\, $25 for loom rental if needed (rental fee may be applied to loom purchase if desired) \nLearn to weave on a small portable versatile loom in this exciting one-day introductory class.
URL:https://winn-knits.com/class/weaving-on-a-rigid-loom-an-introductory-class-for-beginning-weavers/
LOCATION:Fibers Etc\, 2511 South Hood St.\, Tacoma\, WA\, 98402\, United States
CATEGORIES:All Classes,Weaving Classes
ATTACH;FMTTYPE=image/jpeg:https://winn-knits.com/wp-content/uploads/2019/07/winn-knits-weaving-class-series.jpg
END:VEVENT
BEGIN:VEVENT
DTSTART;TZID=America/Denver:20210814T100000
DTEND;TZID=America/Denver:20210814T150000
DTSTAMP:20260420T023557
CREATED:20210804T214247Z
LAST-MODIFIED:20210804T214247Z
UID:973-1628935200-1628953200@winn-knits.com
SUMMARY:4 Harness Weaving - Session 3
DESCRIPTION:4 Harness Weaving –a comprehensive 3-Saturday class for beginning weavers – Session 3\nInstructor: Roberta Lowes \nSaturday\, August 14th;  10:00am – 3:00pm \n$35 per session\, $25 for loom rental if needed (rental fee may be applied to loom purchase if desired) \nEverything you learn in this series of classes applies to table looms and floor looms. We will warp our looms with carpet warp or something similar (available in store). For the weft you may use any scraps of yarn you may have. Learn to plan your project\, wind your warp\, dress the loom\, read\, and understand weaving drafts and you are off to WEAVING!
URL:https://winn-knits.com/class/4-harness-weaving-session-3/
LOCATION:Fibers Etc\, 2511 South Hood St.\, Tacoma\, WA\, 98402\, United States
CATEGORIES:All Classes,Weaving Classes
ATTACH;FMTTYPE=image/jpeg:https://winn-knits.com/wp-content/uploads/2021/08/4-harness-weaving.jpg
END:VEVENT
BEGIN:VEVENT
DTSTART;TZID=America/Denver:20210807T100000
DTEND;TZID=America/Denver:20210807T150000
DTSTAMP:20260420T023557
CREATED:20210804T214027Z
LAST-MODIFIED:20210804T214112Z
UID:970-1628330400-1628348400@winn-knits.com
SUMMARY:4 Harness Weaving - Session 2
DESCRIPTION:4 Harness Weaving –a comprehensive 3-Saturday class for beginning weavers – Session 2\nInstructor: Roberta Lowes \nSaturday\, August 7th;  10:00am – 3:00pm \n$35 per session\, $25 for loom rental if needed (rental fee may be applied to loom purchase if desired) \nEverything you learn in this series of classes applies to table looms and floor looms. We will warp our looms with carpet warp or something similar (available in store). For the weft you may use any scraps of yarn you may have. Learn to plan your project\, wind your warp\, dress the loom\, read\, and understand weaving drafts and you are off to WEAVING!
URL:https://winn-knits.com/class/4-harness-weaving-session-2/
LOCATION:Fibers Etc\, 2511 South Hood St.\, Tacoma\, WA\, 98402\, United States
CATEGORIES:All Classes,Weaving Classes
ATTACH;FMTTYPE=image/jpeg:https://winn-knits.com/wp-content/uploads/2019/07/winn-knits-weaving-class-series.jpg
END:VEVENT
BEGIN:VEVENT
DTSTART;TZID=America/Denver:20210731T100000
DTEND;TZID=America/Denver:20210731T150000
DTSTAMP:20260420T023557
CREATED:20210804T213436Z
LAST-MODIFIED:20210804T213436Z
UID:967-1627725600-1627743600@winn-knits.com
SUMMARY:4 Harness Weaving - Session 1
DESCRIPTION:4 Harness Weaving –a comprehensive 3-Saturday class for beginning weavers – Session 1\nInstructor: Roberta Lowes \nSaturday\, July 31st;  10:00am – 3:00pm \n$35 per session\, $25 for loom rental if needed (rental fee may be applied to loom purchase if desired) \nEverything you learn in this series of classes applies to table looms and floor looms. We will warp our looms with carpet warp or something similar (available in store). For the weft you may use any scraps of yarn you may have. Learn to plan your project\, wind your warp\, dress the loom\, read\, and understand weaving drafts and you are off to WEAVING!
URL:https://winn-knits.com/class/4-harness-weaving-session-1/
LOCATION:Fibers Etc\, 2511 South Hood St.\, Tacoma\, WA\, 98402\, United States
CATEGORIES:All Classes,Weaving Classes
ATTACH;FMTTYPE=image/jpeg:https://winn-knits.com/wp-content/uploads/2019/07/winn-knits-weaving-class-series.jpg
END:VEVENT
BEGIN:VEVENT
DTSTART;TZID=UTC:20191207T100000
DTEND;TZID=UTC:20191207T150000
DTSTAMP:20260420T023557
CREATED:20191030T032300Z
LAST-MODIFIED:20191030T032353Z
UID:901-1575712800-1575730800@winn-knits.com
SUMMARY:4 Harness Weaving
DESCRIPTION:4 Harness Weaving\nInstructor: Roberta Lowes \nSaturday\, December 7th; 10:00am-3:00pm
URL:https://winn-knits.com/class/4-harness-weaving-6/
LOCATION:Fibers Etc\, 2511 South Hood St.\, Tacoma\, WA\, 98402\, United States
CATEGORIES:All Classes,Weaving Classes
ATTACH;FMTTYPE=image/jpeg:https://winn-knits.com/wp-content/uploads/2019/07/winn-knits-weaving-class-series.jpg
END:VEVENT
BEGIN:VEVENT
DTSTART;TZID=UTC:20191116T100000
DTEND;TZID=UTC:20191116T150000
DTSTAMP:20260420T023557
CREATED:20191030T032138Z
LAST-MODIFIED:20191030T032138Z
UID:899-1573898400-1573916400@winn-knits.com
SUMMARY:4 Harness Weaving
DESCRIPTION:4 Harness Weaving\nInstructor: Roberta Lowes \nSaturday\, November 16th; 10:00am-3:00pm
URL:https://winn-knits.com/class/4-harness-weaving-5/
LOCATION:Fibers Etc\, 2511 South Hood St.\, Tacoma\, WA\, 98402\, United States
CATEGORIES:All Classes,Weaving Classes
ATTACH;FMTTYPE=image/jpeg:https://winn-knits.com/wp-content/uploads/2019/07/winn-knits-weaving-class-series.jpg
END:VEVENT
BEGIN:VEVENT
DTSTART;TZID=UTC:20191109T100000
DTEND;TZID=UTC:20191109T150000
DTSTAMP:20260420T023557
CREATED:20191030T031953Z
LAST-MODIFIED:20191030T032146Z
UID:897-1573293600-1573311600@winn-knits.com
SUMMARY:4 Harness Weaving
DESCRIPTION:4 Harness Weaving\nInstructor: Roberta Lowes \nSaturday\, November 9th; 10:00am-3:00pm
URL:https://winn-knits.com/class/4-harness-weaving-4/
LOCATION:Fibers Etc\, 2511 South Hood St.\, Tacoma\, WA\, 98402\, United States
CATEGORIES:All Classes,Weaving Classes
ATTACH;FMTTYPE=image/jpeg:https://winn-knits.com/wp-content/uploads/2019/07/winn-knits-weaving-class-series.jpg
END:VEVENT
BEGIN:VEVENT
DTSTART;TZID=UTC:20190817T100000
DTEND;TZID=UTC:20190817T150000
DTSTAMP:20260420T023557
CREATED:20190725T140355Z
LAST-MODIFIED:20190726T014244Z
UID:645-1566036000-1566054000@winn-knits.com
SUMMARY:4 Harness Weaving
DESCRIPTION:4 Harness Weaving\nInstructor: Roberta Lowes \nSaturday\, August 17th; 10:00am-3:00pm
URL:https://winn-knits.com/class/4-harness-weaving-2/
LOCATION:Fibers Etc\, 2511 South Hood St.\, Tacoma\, WA\, 98402\, United States
CATEGORIES:All Classes,Weaving Classes
ATTACH;FMTTYPE=image/jpeg:https://winn-knits.com/wp-content/uploads/2019/07/winn-knits-weaving-class-series.jpg
END:VEVENT
BEGIN:VEVENT
DTSTART;TZID=UTC:20190803T100000
DTEND;TZID=UTC:20190803T150000
DTSTAMP:20260420T023557
CREATED:20190725T141449Z
LAST-MODIFIED:20190726T000758Z
UID:643-1564826400-1564844400@winn-knits.com
SUMMARY:4 Harness Weaving
DESCRIPTION:4 Harness Weaving\nInstructor: Roberta Lowes \nSaturday\, August 3rd; 10:00am-3:00pm
URL:https://winn-knits.com/class/4-harness-weaving-3/
LOCATION:Fibers Etc\, 2511 South Hood St.\, Tacoma\, WA\, 98402\, United States
CATEGORIES:All Classes,Weaving Classes
ATTACH;FMTTYPE=image/jpeg:https://winn-knits.com/wp-content/uploads/2019/07/winn-knits-weaving-class-series.jpg
END:VEVENT
BEGIN:VEVENT
DTSTART;TZID=UTC:20190727T100000
DTEND;TZID=UTC:20190727T150000
DTSTAMP:20260420T023557
CREATED:20190725T135309Z
LAST-MODIFIED:20190726T000739Z
UID:641-1564221600-1564239600@winn-knits.com
SUMMARY:4 Harness Weaving
DESCRIPTION:4 Harness Weaving\nInstructor: Roberta Lowes \nSaturday\, July 27th; 10:00am-3:00pm
URL:https://winn-knits.com/class/4-harness-weaving/
LOCATION:Fibers Etc\, 2511 South Hood St.\, Tacoma\, WA\, 98402\, United States
CATEGORIES:All Classes,Weaving Classes
ATTACH;FMTTYPE=image/jpeg:https://winn-knits.com/wp-content/uploads/2019/07/winn-knits-weaving-class-series.jpg
END:VEVENT
BEGIN:VEVENT
DTSTART;TZID=UTC:20190720T100000
DTEND;TZID=UTC:20190720T150000
DTSTAMP:20260420T023557
CREATED:20190725T140924Z
LAST-MODIFIED:20190726T000651Z
UID:638-1563616800-1563634800@winn-knits.com
SUMMARY:Rigid Heddle Weaving
DESCRIPTION:Rigid Heddle Weaving\nInstructor: Winn Archambeau-Muñoz \nSaturday\, July 20th; 10:00am-3:00pm
URL:https://winn-knits.com/class/rigid-heddle-weaving/
LOCATION:Fibers Etc\, 2511 South Hood St.\, Tacoma\, WA\, 98402\, United States
CATEGORIES:All Classes,Weaving Classes
ATTACH;FMTTYPE=image/jpeg:https://winn-knits.com/wp-content/uploads/2019/07/winn-knits-weaving-class-series.jpg
END:VEVENT
END:VCALENDAR