BEGIN:VCALENDAR
VERSION:2.0
PRODID:-//Winn Knits - ECPv6.15.17.1//NONSGML v1.0//EN
CALSCALE:GREGORIAN
METHOD:PUBLISH
X-WR-CALNAME:Winn Knits
X-ORIGINAL-URL:https://winn-knits.com
X-WR-CALDESC:Events for Winn Knits
REFRESH-INTERVAL;VALUE=DURATION:PT1H
X-Robots-Tag:noindex
X-PUBLISHED-TTL:PT1H
BEGIN:VTIMEZONE
TZID:UTC
BEGIN:STANDARD
TZOFFSETFROM:+0000
TZOFFSETTO:+0000
TZNAME:UTC
DTSTART:20180101T000000
END:STANDARD
END:VTIMEZONE
BEGIN:VEVENT
DTSTART;TZID=UTC:20190720T100000
DTEND;TZID=UTC:20190720T150000
DTSTAMP:20260420T043216
CREATED:20190725T140924Z
LAST-MODIFIED:20190726T000651Z
UID:638-1563616800-1563634800@winn-knits.com
SUMMARY:Rigid Heddle Weaving
DESCRIPTION:Rigid Heddle Weaving\nInstructor: Winn Archambeau-Muñoz \nSaturday\, July 20th; 10:00am-3:00pm
URL:https://winn-knits.com/class/rigid-heddle-weaving/
LOCATION:Fibers Etc\, 2511 South Hood St.\, Tacoma\, WA\, 98402\, United States
CATEGORIES:All Classes,Weaving Classes
ATTACH;FMTTYPE=image/jpeg:https://winn-knits.com/wp-content/uploads/2019/07/winn-knits-weaving-class-series.jpg
END:VEVENT
END:VCALENDAR